BEGIN:VCALENDAR
VERSION:2.0
PRODID:Events Booking
BEGIN:VEVENT
UID:69e9717c357a4
SUMMARY:Multiprojektmanagement-Denkfehler: Wir brauchen mehr Mitarbeiter!
DESCRIPTION:
DTSTART:20240404T160000Z
DTEND:20240404T170000Z
DTSTAMP:20240224T075733Z
ORGANIZER;CN=PMI Germany Chapter e.V.:MAILTO:website@pmi-gc.de
END:VEVENT
END:VCALENDAR