BEGIN:VCALENDAR
VERSION:2.0
PRODID:Events Booking
BEGIN:VEVENT
UID:69e87f3a30ddb
SUMMARY:Multiprojektmanagement vs. Programmanagement – Unterschiede und P
 raxisbeispiele
DESCRIPTION:Liebe Mitglieder und Interessierte der PMI Local Group Karlsruh
 e\,
 am Dienstag\, den 8. April 2025\, ab 18:00 Uhr laden wir euch herzli
 ch in das Moxy Hotel Karlsruhe ein\, um gemeinsam mit unserem Experten Joh
 annes Schweickert in die spannende Welt des Multiprojektmanagements und de
 s Programmanagements einzutauchen.
LOCATION:Lorbeerweg 24 Karlsruhe\, 76149 Baden-Württemberg\, Deutschland
DTSTART:20250408T160000Z
DTEND:20250408T190000Z
DTSTAMP:20250213T161222Z
ORGANIZER;CN=PMI Germany Chapter e.V.:MAILTO:website@pmi-gc.de
GEO:49.036727;8.394245
X-APPLE-STRUCTURED-LOCATION;VALUE=URI;X-ADDRESS=Lorbeerweg 24 Karlsruhe\, 7
 6149 Baden-Württemberg\, Deutschland;X-APPLE-RADIUS=72;X-TITLE=Moxy-Hotel
  Karlsruhe:49.036727;8.394245
END:VEVENT
END:VCALENDAR