BEGIN:VCALENDAR
VERSION:2.0
PRODID:Events Booking
BEGIN:VEVENT
UID:69e96f3b6dc7d
SUMMARY:1. Stammtisch - Networking für Projektmanager/in in der OWL-Region
DESCRIPTION:Das erste Treffen der Local Group Ost-Westfalen bietet allen Pr
 ojektmangerinnen und Projektmanagern der Region sich mit anderen Interessi
 erten auszutauschen und zu vernetzen. Ziel ist es\, in einen regelmäßige
 n Austausch zu kommen und die Treffen mit Fachvorträgen zu erweitern.
LOCATION:Neumarkt 2 \, Bielefeld\, 33602 Nordrhein-Westfalen\, Deutschland
DTSTART:20240411T163000Z
DTEND:20240411T170000Z
DTSTAMP:20240406T101156Z
ORGANIZER;CN=PMI Germany Chapter e.V.:MAILTO:website@pmi-gc.de
GEO:52.02576;8.536587
X-APPLE-STRUCTURED-LOCATION;VALUE=URI;X-ADDRESS=Neumarkt 2 \, Bielefeld\, 3
 3602 Nordrhein-Westfalen\, Deutschland;X-APPLE-RADIUS=72;X-TITLE=faces Res
 taurant & Bar (@ Légère Hotel)\, Neumarkt 2\, 33602 Bielefeld:52.02576;8
 .536587
END:VEVENT
END:VCALENDAR