BEGIN:VCALENDAR
VERSION:2.0
PRODID:Events Booking
BEGIN:VEVENT
UID:69e7da63d7245
SUMMARY:PM-Summit 2025 des PMI Germany Chapters
DESCRIPTION:PM Summit 2025 -&nbsp\;Kompass Zukunft: Agil. Digital. Nachhalt
 ig.
 Erleben Sie mit uns intensive Tage des Lernens\, Austauschens und Wa
 chsens\, die Ihnen helfen werden\, mit aktuellen und zukünftigen Projektm
 anager*innen in Deutschland in Kontakt zu treten und Ihr Netzwerk zu erwei
 tern.&nbsp\;Nutzen Sie diese einmalige Gelegenheit\, um von hochkarätigen
  Referenten zu lernen und&nbsp\;sich mit anderen Experten auszutauschen\, 
 neue Impulse für die eigene Arbeit zu erhalten\, neue Kontakte zu knüpfe
 n&nbsp\;und sich damit insgesamt beruflich weiterzuentwickeln.&nbsp\;Freue
 n Sie sich ebenfallls auf eine unvergessliche Abendveranstaltung beim PMI 
 Germany Chapter Summit 2025 am ersten Tag auf dem Schaufelraddampfer MS Lo
 usiana.&nbsp\;&nbsp\;
 Alles Weitere finden Sie auf der Veranstaltungssei
 te: https://www.pm-summit.de&nbsp\;!
 &nbsp\;
 &nbsp\;
 
LOCATION:Bernhard-Nocht-Straße 97\, Hamburg\, 20359\, Deutschland
DTSTART:20251111T080000Z
DTEND:20251112T160000Z
DTSTAMP:20240410T131821Z
ORGANIZER;CN=PMI Germany Chapter e.V.:MAILTO:website@pmi-gc.de
GEO:53.54678;9.96515
X-APPLE-STRUCTURED-LOCATION;VALUE=URI;X-ADDRESS=Bernhard-Nocht-Straße 97\,
  Hamburg\, 20359\, Deutschland;X-APPLE-RADIUS=72;X-TITLE=Hamburg\, Empire 
 Riverside Hotel:53.54678;9.96515
END:VEVENT
END:VCALENDAR