BEGIN:VCALENDAR
VERSION:2.0
PRODID:Events Booking
BEGIN:VEVENT
UID:69e8b9b790cfe
SUMMARY:LG Berlin: PMI Certification - how to get\, how to keep?
DESCRIPTION:Are you aiming to earn a PMI certification or maintain your exi
 sting one?
 Then look no further. Our upcoming event offers everything yo
 u need to know about PMI certifications.
 Discover various ways to earn P
 rofessional Development Units (PDUs) and understand the Continuing Certifi
 cation Requirements (CCR).
LOCATION:Washingtonplatz 3\, Berlin\, 10557
DTSTART:20250117T170000Z
DTEND:20250117T190000Z
DTSTAMP:20241029T145844Z
ORGANIZER;CN=PMI Germany Chapter e.V.:MAILTO:website@pmi-gc.de
GEO:52.52352;13.369241
X-APPLE-STRUCTURED-LOCATION;VALUE=URI;X-ADDRESS=Washingtonplatz 3\, Berlin\
 , 10557;X-APPLE-RADIUS=72;X-TITLE=Foodfactory Cube:52.52352;13.369241
END:VEVENT
END:VCALENDAR