BEGIN:VCALENDAR
VERSION:2.0
PRODID:Events Booking
BEGIN:VEVENT
UID:69e83932ef830
SUMMARY:PMI Zertifizierungs-Überblick (PMI Austria Chapter)
DESCRIPTION:Verlegt von ursprünglich 26. Juni 2025
 Ihr wollt eine Übers
 icht über die von PMI angebotenen Zertifizierungen bekommen oder wollt Eu
 ch zertifizieren lassen und habt Fragen zum Anmelde-Prozess\, Prüfungsvor
 bereitung und -Durchführung? Dann seid Ihr bei diesem Webinar am 10. Juli
  2025 von 16:30 bis 17:30 Uhr richtig! Das Webinar wird auf Deutsch mit en
 glischen Folien (oder bei Bedarf auf Englisch) durchgeführt.
DTSTART:20250710T143000Z
DTEND:20250710T153000Z
DTSTAMP:20250530T104526Z
ORGANIZER;CN=PMI Germany Chapter e.V.:MAILTO:website@pmi-gc.de
END:VEVENT
END:VCALENDAR