BEGIN:VCALENDAR
VERSION:2.0
PRODID:Events Booking
BEGIN:VEVENT
UID:69e809fba3d7d
SUMMARY:PMI Zertifizierungs-Überblick (PMI Austria Chapter)
DESCRIPTION:Ihr wollt eine Übersicht über die von PMI angebotenen Zertifi
 zierungen bekommen oder wollt Euch zertifizieren lassen und habt Fragen zu
 m Anmelde-Prozess\, Prüfungsvorbereitung und -Durchführung? Dann seid Ih
 r bei diesem Webinar richtig! Das Webinar wird auf Deutsch mit englischen 
 Folien (oder bei Bedarf auf Englisch) durchgeführt.
DTSTART:20250918T143000Z
DTEND:20250918T153000Z
DTSTAMP:20250530T104526Z
ORGANIZER;CN=PMI Germany Chapter e.V.:MAILTO:website@pmi-gc.de
END:VEVENT
END:VCALENDAR