BEGIN:VCALENDAR
VERSION:2.0
PRODID:Events Booking
BEGIN:VEVENT
UID:69e930683e506
SUMMARY:Power Skills/ Soft Skills im Projektmanagement
DESCRIPTION:Laut PMI Job Trend Report 2023 (https://www.pmi.org/learning/
 careers/global-job-trends-2023) werden weltweit jedes Jahr 2\,3 Millionen 
 Menschen benötigt\, um alle bis 2030 zu erwartenden offenen Stellen im Pr
 ojektmanagement zu besetzen. Besonders gut sind die Aussichten für diejen
 igen mit einem guten Mix aus technischen Fähigkeiten (auch zum Beispiel w
 egen KI) und Power-Skills (Kommunikation\, Problemlösung\, Strategie und 
 Team-Führung).
LOCATION:Lorbeerweg 24 Karlsruhe\, 76149 Baden-Württemberg\, Deutschland
DTSTART:20240715T160000Z
DTEND:20240715T200000Z
DTSTAMP:20240518T082348Z
ORGANIZER;CN=PMI Germany Chapter e.V.:MAILTO:website@pmi-gc.de
GEO:49.036727;8.394245
X-APPLE-STRUCTURED-LOCATION;VALUE=URI;X-ADDRESS=Lorbeerweg 24 Karlsruhe\, 7
 6149 Baden-Württemberg\, Deutschland;X-APPLE-RADIUS=72;X-TITLE=Moxy-Hotel
  Karlsruhe:49.036727;8.394245
END:VEVENT
END:VCALENDAR