BEGIN:VCALENDAR
VERSION:2.0
PRODID:Events Booking
BEGIN:VEVENT
UID:69e8f32794ccb
SUMMARY:Verhalten essen Produktivität auf - Hau mir ab mit dem weichen Zeu
 g!
DESCRIPTION:Ergründe die zentrale Bedeutung von Emotionaler Intelligenz un
 d Psychologischer Sicherheit in der Führung für erfolgreiche Projektvera
 ntwortung. Dieser Vortrag lädt dazu ein\, die Auswirkungen des Verhaltens
  auf Produktivität zu verstehen. Wir beleuchten\, wie die Identifikation 
 und Behebung von dysfunktionalen Prozessen sowie die Förderung menschlich
 er Interaktionen den wesentlichen Unterschied machen. Traditionelle Denkmu
 ster herauszufordern und innovative Ansätze für die Produktentwicklung z
 u erkunden\, steht im Fokus. Teilnehmende werden dazu angeregt\, aktiv am 
 Wandel teilzunehmen und die Relevanz von Verhaltensänderungen für eine n
 achhaltige und produktive Zusammenarbeit zu erfassen. Sei dabei\, wenn die
  Zukunft geformt wird.
 &gt\;&gt\; Willst Du die Betroffenen im Projekt z
 u Beiteiligten machen? Dann sei dabei!
DTSTART:20240305T173000Z
DTEND:20240305T190000Z
DTSTAMP:20220613T131305Z
ORGANIZER;CN=PMI Germany Chapter e.V.:MAILTO:website@pmi-gc.de
END:VEVENT
END:VCALENDAR