BEGIN:VCALENDAR
VERSION:2.0
PRODID:Events Booking
BEGIN:VEVENT
UID:69e8f80be2dc0
SUMMARY:Die laute Revolution: 23 praktische KI-Anwendungen jenseits von Cha
 tten
DESCRIPTION:
 Karsten Wilke stellt 23 konkrete und praxisnahe KI-Anwendung
 en vor\, die in verschiedensten Branchen bereits jetzt großen Mehrwert bi
 eten. Die Spannweite reicht von einfachen Automatisierungen bis hin zu hoc
 hkomplexen Anwendungsfällen\, wie der vorausschauenden Wartung von Maschi
 nen oder der automatisierten Rechnungsprüfung. Auch Themen wie die Vorher
 sage von Kundenabwanderung (Churn Prediction)\, die Anomalieerkennung in D
 atenströmen und die Optimierung von Lieferketten gehören dazu.
 Karsten
  zeigt auf\, wie KI – egal ob in simplen Prozessen oder bei der Lösung 
 komplexer Herausforderungen – Unternehmen und Organisationen unterstütz
 t\, effizienter zu arbeiten\, Kosten zu senken und innovative Geschäftsmo
 delle zu schaffen. Durch eine Vielfalt von Anwendungsbeispielen wird deutl
 ich\, dass KI in allen Bereichen neue Maßstäbe setzt
 
 &gt\;&gt\; Dic
 h interessiert die Anwendung von KI in der Praxis? Dann sei dabei!
DTSTART:20241024T150000Z
DTEND:20241024T163000Z
DTSTAMP:20220613T131305Z
ORGANIZER;CN=PMI Germany Chapter e.V.:MAILTO:website@pmi-gc.de
END:VEVENT
END:VCALENDAR