BEGIN:VCALENDAR
VERSION:2.0
PRODID:Events Booking
BEGIN:VEVENT
UID:69e8e4b3975ea
SUMMARY:Verantwortung im Projekt übernehmen - Selbstständigkeit fördern 
 mit Delegation Poker und Delegation Matrix
DESCRIPTION:
 Vielleicht kennst Du das: In Deinem Team übernehmen nur wen
 ige Verantwortung. Du übergibst eine Aufgabe und erwartest\, dass das Tea
 m oder ein Teammitglied die Verantwortung für diese Aufgabe übernimmt. D
 och Du merkst\, dass Deine Erwartungen nicht erfüllt werden und musst doc
 h ständig nachhaken. Das kann unterschiedliche Ursachen haben.
 Mit Dele
 gation Poker und Delegation Matrix gleicht ihr gemeinsam Eure Erwartungen 
 ab und findet das richtige Maß. In diesem interaktiven Vortrag werfen wir
  einen Blick darauf\, wie man die Verantwortung bewusst und sinnvoll deleg
 iert.
 &gt\;&gt\; Du willst\, dass Dein Umsetzungsteam mehr Verantwortung
  übernimmt? Dann sei dabei.
 
DTSTART:20241121T160000Z
DTEND:20241121T173000Z
DTSTAMP:20220613T131305Z
ORGANIZER;CN=PMI Germany Chapter e.V.:MAILTO:website@pmi-gc.de
END:VEVENT
END:VCALENDAR