BEGIN:VCALENDAR
VERSION:2.0
PRODID:Events Booking
BEGIN:VEVENT
UID:69e8693cb1696
SUMMARY:Wie KI den Projektalltag revolutionierte – Ein Rückblick
DESCRIPTION:
 
 In diesem Vortrag schauen wir zurück auf die Reise der K
 ünstlichen Intelligenz (KI) im Projektmanagement. Von den ersten kleinen 
 Schritten bis zu den großen Veränderungen\, die den Projektalltag revolu
 tioniert haben – wir zeigen dir die wichtigsten Meilensteine und Best Pr
 actices.
 Du erfährst\, wie KI die Effizienz und Produktivität in Proje
 kten gesteigert hat\, indem sie Routineaufgaben automatisierte\, Fehler mi
 nimierte und die Kommunikation verbesserte. Mit konkreten Beispielen und p
 raktischen Anwendungen zeigen wir dir\, wie Projektleiter:innen KI erfolgr
 eich nutzen und welche Herausforderungen sie gemeistert haben.Dieser Rück
 blick bietet dir wertvolle Einblicke und Inspiration\, um die Potenziale v
 on KI im Projektmanagement besser zu verstehen und zu nutzen. Lass dich vo
 n den Erfolgsgeschichten und Erkenntnissen inspirieren\, um deine Projekte
  noch intelligenter und effizienter zu gestalten.
 &nbsp\;
 &gt\;&gt\; D
 u willst dich für die Nutzung von KI in Deinem Projektalltag inspirieren 
 lassen? Dann sei dabei!
 &nbsp\;
 
DTSTART:20250527T163000Z
DTEND:20250527T180000Z
DTSTAMP:20220613T131305Z
ORGANIZER;CN=PMI Germany Chapter e.V.:MAILTO:website@pmi-gc.de
END:VEVENT
END:VCALENDAR