BEGIN:VCALENDAR
VERSION:2.0
PRODID:Events Booking
BEGIN:VEVENT
UID:69e7d986daf50
SUMMARY:PVM 2025 - Post Agil
DESCRIPTION:Was ist Agilität?
 Ist der Begriff noch aktuell\, oder sind w
 ir schon in der ‚Post-Agilität‘ angekommen?
 Die gemeinsame Tagung 
 ‚Projektmanagement und Vorgehensmodelle‘ beschäftigt sich mit Fragest
 ellungen aus der Praxis und der Wissenschaft zum aktuellen Stand der Vorge
 hensmodelle in IT-Projekten\, mit neuen Leadership-Ideen\, aber auch mit d
 em Einsatz von KI in der Projektorgani-sation. Praktiker und Wissenschaftl
 er tauschen sich in Vorträgen und Workshops aus.
 Aktuelle Informationen
  gibt es hier:
 
 https://pvm-tagung.de/startseite
 https://www.linkedi
 n.com/company/89689597/
 
 Fragen beantwortet: Martin.Bertram@pmi-gc.de
LOCATION:Am Stockhof\, Hameln\, 31785 Niedersachsen\, Deutschland
DTSTART:20251120T070000Z
DTEND:20251121T150000Z
DTSTAMP:20241130T141153Z
ORGANIZER;CN=PMI Germany Chapter e.V.:MAILTO:website@pmi-gc.de
GEO:52.098732;9.355181
X-APPLE-STRUCTURED-LOCATION;VALUE=URI;X-ADDRESS=Am Stockhof\, Hameln\, 3178
 5 Niedersachsen\, Deutschland;X-APPLE-RADIUS=72;X-TITLE=Hochschule Weserbe
 rgland Hameln:52.098732;9.355181
END:VEVENT
END:VCALENDAR