BEGIN:VCALENDAR
VERSION:2.0
PRODID:Events Booking
BEGIN:VEVENT
UID:69e8e9dd216c0
SUMMARY:Regensburg Stammtisch: KI im Projektmanagement
DESCRIPTION:Das Thema des heutigen Stammtischs ist KI im Projektmanagement.
  Stephan Ollinger wird vortragen\, welche Möglichkeiten KI bietet und wel
 che Tools sich anbieten.
 Darüber hinaus tauschen wir uns über verschie
 dene Themen aus dem Alltag der teilnehmenden Projektmanager aus. Teilnehme
 r mit und ohne PMP oder PMI Mitgliedschaft sind herzlich willkommen.
LOCATION:Dechbetten 11\, Regensburg\, 93051 Bayern\, Deutschland
DTSTART:20241112T173000Z
DTEND:20241112T200000Z
DTSTAMP:20230526T104903Z
ORGANIZER;CN=PMI Germany Chapter e.V.:MAILTO:website@pmi-gc.de
GEO:49.007856;12.059935
X-APPLE-STRUCTURED-LOCATION;VALUE=URI;X-ADDRESS=Dechbetten 11\, Regensburg\
 , 93051 Bayern\, Deutschland;X-APPLE-RADIUS=72;X-TITLE=Dechbettener Hof :4
 9.007856;12.059935
END:VEVENT
END:VCALENDAR