BEGIN:VCALENDAR
VERSION:2.0
PRODID:Events Booking
BEGIN:VEVENT
UID:69e90b3e9e9c6
SUMMARY:Regensburg Stammtisch: Management anspruchsvoller Stakeholder
DESCRIPTION:Bei diesem Stammtisch werden wir das Management anspruchsvoller
  Stakeholder diskutieren. Dabei werden wir Beispiele aus dem Projektalltag
  der Teilnehmer besprechen und Herangehensweisen sowie Lösungen diskutier
 en.
 Darüber hinaus bietet der Stammtisch Raum für weitere (brennende) 
 Themen aus dem Alltag des Projektmanagements und darüber hinaus offen.&nb
 sp\;
LOCATION:Dechbetten 11\, Regensburg\, 93051 Bayern\, Deutschland
DTSTART:20240924T163000Z
DTEND:20240924T190000Z
DTSTAMP:20230526T104903Z
ORGANIZER;CN=PMI Germany Chapter e.V.:MAILTO:website@pmi-gc.de
GEO:49.007856;12.059935
X-APPLE-STRUCTURED-LOCATION;VALUE=URI;X-ADDRESS=Dechbetten 11\, Regensburg\
 , 93051 Bayern\, Deutschland;X-APPLE-RADIUS=72;X-TITLE=Dechbettener Hof :4
 9.007856;12.059935
END:VEVENT
END:VCALENDAR