BEGIN:VCALENDAR
VERSION:2.0
PRODID:Events Booking
BEGIN:VEVENT
UID:69e87f5b4b49e
SUMMARY:Regensburg Stammtisch: Offener Themenabend... (2)
DESCRIPTION:In diesem offenen Themenabend&nbsp\;tauschen wir uns über vers
 chiedene Themen aus dem Alltag der teilnehmenden Projektmanager aus. Teiln
 ehmer mit und ohne PMP oder PMI Mitgliedschaft sind herzlich willkommen.

  &nbsp\;
 Achtung neue Location: 
 Restaurant Hermann\, Augsburger Str. 
 69\, 93051 Regensburg
 Hier haben wir einen separaten Raum.&nbsp\; Die Ka
 rte bietet ein reichhaltiges Angebot an Getränke und Speisen. Weiter steh
 en ausreichend Parkplätze zur Verfügung.
DTSTART:20250409T163000Z
DTEND:20250409T190000Z
DTSTAMP:20230526T104903Z
ORGANIZER;CN=PMI Germany Chapter e.V.:MAILTO:website@pmi-gc.de
END:VEVENT
END:VCALENDAR