BEGIN:VCALENDAR
VERSION:2.0
PRODID:Events Booking
BEGIN:VEVENT
UID:69e930693f6d2
SUMMARY:Regensburg Stammtisch: Offener Themenabend
DESCRIPTION:Dieser Stammtisch ist für alle Themen aus dem Alltag des Proje
 ktmanagements und darüber hinaus offen. Wir diskutieren aktuelle Themen d
 er Teilnehmer.
LOCATION:Dechbetten 11\, Regensburg\, 93051 Bayern\, Deutschland
DTSTART:20240716T163000Z
DTEND:20240716T190000Z
DTSTAMP:20230526T104903Z
ORGANIZER;CN=PMI Germany Chapter e.V.:MAILTO:website@pmi-gc.de
GEO:49.007856;12.059935
X-APPLE-STRUCTURED-LOCATION;VALUE=URI;X-ADDRESS=Dechbetten 11\, Regensburg\
 , 93051 Bayern\, Deutschland;X-APPLE-RADIUS=72;X-TITLE=Dechbettener Hof :4
 9.007856;12.059935
END:VEVENT
END:VCALENDAR