BEGIN:VCALENDAR
VERSION:2.0
PRODID:Events Booking
BEGIN:VEVENT
UID:69e8bb1fa9459
SUMMARY:Regensburg Stammtisch: Projektmanagement Organisationen im Vergleic
 h
DESCRIPTION:Heute werden wir uns mit verschiedenen Projektmanagement Organi
 sationen und Zertifikaten beschäftigen. Dabei werden wir diie Vorteile\, 
 Nachteile und Unterschiede diskutieren.&nbsp\;
 Darüber hinaus tauschen 
 wir uns über verschiedene Themen aus dem Alltag der teilnehmenden Projekt
 manager aus. Teilnehmer mit und ohne PMP oder PMI Mitgliedschaft sind herz
 lich willkommen.
DTSTART:20250108T173000Z
DTEND:20250108T200000Z
DTSTAMP:20230526T104903Z
ORGANIZER;CN=PMI Germany Chapter e.V.:MAILTO:website@pmi-gc.de
END:VEVENT
END:VCALENDAR