BEGIN:VCALENDAR
VERSION:2.0
PRODID:Events Booking
BEGIN:VEVENT
UID:69e92029deaed
SUMMARY: Scope-Creep-Theater: 1. Probe PMI GC LG Rheinland: Die Projektleit
 erin als \"Feuerwehr\"
DESCRIPTION:1. Probe: Scope-Creep Theater: Die Projektleiterin als „Feuer
 wehr“!: gespielte Szenen\, echte Probleme und dynamische Diskussionen!

  
 Scope-Creep-Theater: Gemeinsames Lesen des Schauspieltexts und Diskuss
 ion
DTSTART:20240812T160000Z
DTEND:20240812T180000Z
DTSTAMP:20240801T052527Z
ORGANIZER;CN=PMI Germany Chapter e.V.:MAILTO:website@pmi-gc.de
END:VEVENT
END:VCALENDAR