BEGIN:VCALENDAR
VERSION:2.0
PRODID:Events Booking
BEGIN:VEVENT
UID:69e838ffd870c
SUMMARY:SAVE THE DATE: She@ISACA Meetup in München
DESCRIPTION:Unsere She@ISACA-Initiative lädt herzlich alle für den 02.07.
 2025 in München zu einem Treffen ein.Die Veranstaltung befindet sich noch
  in Planung\, weitere Infos folgen in Kürze.Merkt Euch gerne schon mal da
 s Datum vor!
DTSTART:20250701T220000Z
DTEND:20250701T220000Z
DTSTAMP:20250524T145105Z
ORGANIZER;CN=PMI Germany Chapter e.V.:MAILTO:website@pmi-gc.de
END:VEVENT
END:VCALENDAR