BEGIN:VCALENDAR
VERSION:2.0
PRODID:Events Booking
BEGIN:VEVENT
UID:69e7daa91545b
SUMMARY:Stammtisch der Local Group Ruhrgebiet
DESCRIPTION:Liebe Projektmanagement-Enthusiasten\,
 wir laden Euch herzlic
 h zum Stammtisch der Local Group Ruhrgebiet des PMI Germany Chapters ein!
 
 Dies ist eine großartige Gelegenheit\, gleichgesinnte Projektmanagerin
 nen und Projektmanager zu treffen\, sich zu vernetzen und 2 wertvolle PDUs
  (Professional Development Units) zu sammeln.
 Wir freuen uns auf einen i
 nspirierenden Abend mit Euch!
LOCATION:Girardetstraße 2\, Essen\, 45131 Nordrhein-Westfalen\, Deutschlan
 d
DTSTART:20251118T170000Z
DTEND:20251118T190000Z
DTSTAMP:20231213T162340Z
ORGANIZER;CN=PMI Germany Chapter e.V.:MAILTO:website@pmi-gc.de
GEO:51.431014;7.004876
X-APPLE-STRUCTURED-LOCATION;VALUE=URI;X-ADDRESS=Girardetstraße 2\, Essen\,
  45131 Nordrhein-Westfalen\, Deutschland;X-APPLE-RADIUS=72;X-TITLE=Fritzpa
 tricks Irish Pub Essen:51.431014;7.004876
END:VEVENT
END:VCALENDAR