BEGIN:VCALENDAR
VERSION:2.0
PRODID:Events Booking
BEGIN:VEVENT
UID:69e7ca1167ff8
SUMMARY:Weihnachtsfeier der Local Group Ruhrgebiet
DESCRIPTION:Liebe Projektmanagement-Enthusiasten\, wir laden Euch herzlich 
 zur Weihnachtsfeier&nbsp\;der Local Group Ruhrgebiet des PMI Germany Chapt
 ers&nbsp\;ein! Dies ist eine großartige Gelegenheit\, gleichgesinnte Proj
 ektmanagerinnen und Projektmanager zu treffen\, sich zu vernetzen und 2 we
 rtvolle PDUs (Professional Development Units) zu sammeln. Wir freuen uns a
 uf einen inspirierenden Abend mit Euch!
LOCATION:Girardetstraße 2\, Essen\, 45131 Nordrhein-Westfalen\, Deutschlan
 d
DTSTART:20251209T170000Z
DTEND:20251209T190000Z
DTSTAMP:20231213T162340Z
ORGANIZER;CN=PMI Germany Chapter e.V.:MAILTO:website@pmi-gc.de
GEO:51.431014;7.004876
X-APPLE-STRUCTURED-LOCATION;VALUE=URI;X-ADDRESS=Girardetstraße 2\, Essen\,
  45131 Nordrhein-Westfalen\, Deutschland;X-APPLE-RADIUS=72;X-TITLE=Fritzpa
 tricks Irish Pub Essen:51.431014;7.004876
END:VEVENT
END:VCALENDAR