BEGIN:VCALENDAR
VERSION:2.0
PRODID:Events Booking
BEGIN:VEVENT
UID:69e8baf0e2523
SUMMARY:1. Stammtisch der Local Group Ruhrgebiet in 2025
DESCRIPTION:Liebe Projektmanagement-Enthusiasten\,
 wir laden Euch herzlic
 h zum ersten Stammtisch in 2025 der Local Group Ruhrgebiet des PMI Germany
  Chapters&nbsp\;ein!
 Dies ist eine großartige Gelegenheit\, gleichgesin
 nte Projektmanagerinnen und Projektmanager zu treffen\, sich zu vernetzen 
 und 2 wertvolle PDUs (Professional Development Units) zu sammeln.
 Wir fr
 euen uns auf einen inspirierenden Abend mit Euch!
LOCATION:Girardetstraße 2\, Essen\, 45131 Nordrhein-Westfalen\, Deutschlan
 d
DTSTART:20250114T170000Z
DTEND:20250114T190000Z
DTSTAMP:20231213T162340Z
ORGANIZER;CN=PMI Germany Chapter e.V.:MAILTO:website@pmi-gc.de
GEO:51.431014;7.004876
X-APPLE-STRUCTURED-LOCATION;VALUE=URI;X-ADDRESS=Girardetstraße 2\, Essen\,
  45131 Nordrhein-Westfalen\, Deutschland;X-APPLE-RADIUS=72;X-TITLE=Fritzpa
 tricks Irish Pub Essen:51.431014;7.004876
END:VEVENT
END:VCALENDAR