BEGIN:VCALENDAR
VERSION:2.0
PRODID:Events Booking
BEGIN:VEVENT
UID:69e8d0278ac03
SUMMARY:Weihnachtsfeier der Local Group Ruhrgebiet
DESCRIPTION:Liebe Projektmanagement-Enthusiasten\,
 wir laden Euch herzlic
 h zur Weihnachtsfeier&nbsp\;der Local Group Ruhrgebiet des PMI Germany Cha
 pters&nbsp\;ein!
 Dies ist eine großartige Gelegenheit\, gleichgesinnte 
 Projektmanagerinnen und Projektmanager zu treffen\, sich zu vernetzen und 
 2 wertvolle PDUs (Professional Development Units) zu sammeln.
 Wir freuen
  uns auf einen inspirierenden Abend mit Euch!
LOCATION:Rotthauser Straße 34\, Essen\, 45309 Nordrhein-Westfalen\, Deutsc
 hland
DTSTART:20241210T170000Z
DTEND:20241210T190000Z
DTSTAMP:20231213T162340Z
ORGANIZER;CN=PMI Germany Chapter e.V.:MAILTO:website@pmi-gc.de
GEO:51.473083;7.083953
X-APPLE-STRUCTURED-LOCATION;VALUE=URI;X-ADDRESS=Rotthauser Straße 34\, Ess
 en\, 45309 Nordrhein-Westfalen\, Deutschland;X-APPLE-RADIUS=72;X-TITLE=Wol
 perding Essen:51.473083;7.083953
END:VEVENT
END:VCALENDAR