BEGIN:VCALENDAR
VERSION:2.0
PRODID:Events Booking
BEGIN:VEVENT
UID:69e8a62182d14
SUMMARY:Stammtisch Stuttgart - Februar 2025
DESCRIPTION:Diskussion u.a. zu diesen Themenvorschlägen:
 - aktuelle Them
 en aus der Runde- Jahresplanung 2025- selbstverständlich KI (LLM) und Age
 nten bzw. deren Auswirkung auf das ProjektmanagementThemenspeicher:- Stake
 holdermanagement: 1 von 36 Strategeme- Themenschwerpunkt der Phase Projekt
 abschluss
LOCATION:Beim Höhenfreibad\, Stuttgart\, 70192 Baden-Württemberg\, Deutsc
 hland
DTSTART:20250221T170000Z
DTEND:20250221T190000Z
DTSTAMP:20250102T125857Z
ORGANIZER;CN=PMI Germany Chapter e.V.:MAILTO:website@pmi-gc.de
GEO:48.80795;9.174242
X-APPLE-STRUCTURED-LOCATION;VALUE=URI;X-ADDRESS=Beim Höhenfreibad\, Stuttg
 art\, 70192 Baden-Württemberg\, Deutschland;X-APPLE-RADIUS=72;X-TITLE=Wei
 nstube Killesberg:48.80795;9.174242
END:VEVENT
END:VCALENDAR