BEGIN:VCALENDAR
VERSION:2.0
PRODID:Events Booking
BEGIN:VEVENT
UID:69e9453ad590c
SUMMARY:Stammtisch Stuttgart - Juni 2024
DESCRIPTION:Diskussion u.a. zu diesen Themenvorschlägen:
 - aktuelle Them
 en aus der Runde- Wie denken Beteiligte (von Chefs bis DEVs) und welchen E
 influss hat das aufs Projekt? - 5 Möglichkeiten Wertschätzung zum Ausdru
 ck zu bringen- Wie Projektleitende entwickeln und coachen?- Entscheidungsv
 orlagen\, richtig erstellenThemenspeicher:- Stakeholdermanagement: 1 von 3
 6 Strategeme- Themenschwerpunkt der Phase Projektabschluss- Wie erkenne ic
 h unterschiedliche Eigenschaften bei Mitarbeitenden u.a. bzgl. Schätzung\
 , Risiko\, Fertigstellung oder Überlastung?
LOCATION:Beim Höhenfreibad\, Stuttgart\, 70192 Baden-Württemberg\, Deutsc
 hland
DTSTART:20240628T160000Z
DTEND:20240628T180000Z
DTSTAMP:20231201T211720Z
ORGANIZER;CN=PMI Germany Chapter e.V.:MAILTO:website@pmi-gc.de
GEO:48.80795;9.174242
X-APPLE-STRUCTURED-LOCATION;VALUE=URI;X-ADDRESS=Beim Höhenfreibad\, Stuttg
 art\, 70192 Baden-Württemberg\, Deutschland;X-APPLE-RADIUS=72;X-TITLE=Wei
 nstube Killesberg:48.80795;9.174242
END:VEVENT
END:VCALENDAR