BEGIN:VCALENDAR
VERSION:2.0
PRODID:Events Booking
BEGIN:VEVENT
UID:69e89227a28bd
SUMMARY:Stammtisch Stuttgart - März 2025
DESCRIPTION:Umsetzung des PMO-CP Programms - Meine Erfahrungen und Ansätze
 
 Tauche ein in die spannende Welt eines PMO und erfahre\, wie er als kü
 rzlich zertifizierter PMO-CP die Theorie in die Praxis umsetze. Diese Show
  &amp\; Share Session bietet einen einzigartigen Einblick in die Herausfor
 derungen und Erfolge bei der Implementierung von PMO-Strategien im Sales O
 perations Umfeld.
 Takeaways: Wie ausgewählte Inhalte des Programms in r
 ealen Funktionsbereichen angewendet werden und welche Anpassungen notwendi
 g sind\, um erfolgreich zu sein. Dieser Erfahrungsaustausch bietet\, neue 
 Perspektiven und Anregungen für die eigene Praxis.
 Themenfolge:
 
 Ü
 berblick über das PMO-CP Programm: Meine Erkenntnisse
 Schwerpunkt 1: Be
 nefits und FunktionenLeitfragen: Wie erkenne ich die Bedürfnisse meiner S
 takeholder und wie kann ich diese erfüllen? Sowie der Diskussion zu Herau
 sforderungen und Anpassungen
 Schwerpunkt 2: Prozesse und Process Maturit
 yLeifragen: Wie übersetze ich die PMO-Leistung in Services und messe und 
 verbessere ich die Qualität?Sowie dem Austausch hinsichtlich realistische
 r Umsetzungen und Hindernissen
 Schwerpunkt 3: PMO ROI - It's about the m
 oney! Leifragen: Wie stelle ich den Wert des PMO dar?Sowie der Diskussion 
 zu Abweichungen und individuelle Ansätze
 
 Über den Gastgeber: Hallo\
 , ich bin Thorsten Siemers\, Leiter im PMO für Global Services Sales\, ha
 uptsächlich tätig in der dynamischen Welt der IT. Mit einem Hintergrund 
 in Sales und Sales Strategy &amp\; Planning lege ich großen Wert darauf\,
  agile Betriebsmodelle im Sales Operations Umfeld zu entwickeln. Mein Ansa
 tz basiert auf einer Leidenschaft für agile Methoden und kontinuierliche 
 Verbesserung\, stets mit dem Ziel\, Technologie zu nutzen\, um das Leben z
 u vereinfachen und Geschäftsergebnisse zu erzielen.Ich bin immer bestrebt
 \, Perspektiven zu ändern und die nächste Iteration zu begrüßen\, ähn
 lich einem Minimum Viable Product. Abseits des beruflichen Bereichs habe i
 ch eine tiefe Wertschätzung für Kultur\, Philosophie\, Natur (insbesonde
 re Birdwatching) und Demokratie\, die meine Neugier und meinen kollaborati
 ven Geist antreibt. Im Wesentlichen bin ich leidenschaftlich\, kollaborati
 v\, neugierig von Natur aus und ein bisschen ein Nerd im Herzen.Freue dich
  auf eine interaktive Session\, die nicht nur Wissen vermittelt\, sondern 
 auch den Austausch und die Vernetzung fördert. Und natürlich werde ich a
 uch ein paar kleine AI-Nützlichkeiten einfließen lassen\, stay tuned.
 
 Registrierung: Bitte senden Sie Ihre vollständige Anschrift und E-Mail-Ad
 resse spätestens 2 Stunden vor dem Meeting an thsiemer@cisco.com\, um sic
 h für einen Besuch in unserem Büro zu registrieren.
 Wir freuen uns auf
  Ihre Teilnahme und einen anregenden Austausch!
LOCATION:Rotebühlplatz 21-25\, Stuttgart\, 70178 Baden-Württemberg\, Deut
 schland
DTSTART:20250321T160000Z
DTEND:20250321T180000Z
DTSTAMP:20250102T125609Z
ORGANIZER;CN=PMI Germany Chapter e.V.:MAILTO:website@pmi-gc.de
GEO:48.774345;9.17164
X-APPLE-STRUCTURED-LOCATION;VALUE=URI;X-ADDRESS=Rotebühlplatz 21-25\, Stut
 tgart\, 70178 Baden-Württemberg\, Deutschland;X-APPLE-RADIUS=72;X-TITLE=C
 isco Systems GmbH:48.774345;9.17164
END:VEVENT
END:VCALENDAR