BEGIN:VCALENDAR
VERSION:2.0
PRODID:Events Booking
BEGIN:VEVENT
UID:69e8e5458ed60
SUMMARY:Stammtisch Stuttgart - November 2024
DESCRIPTION:Diskussion u.a. zu diesen Themenvorschlägen:
 - aktuelle Them
 en aus der Runde- tbd.Themenspeicher:- Stakeholdermanagement: 1 von 36 Str
 ategeme- Themenschwerpunkt der Phase Projektdurchführung
LOCATION:Tübinger Straße 46\, Stuttgart\, 70178 Baden-Württemberg\, Deut
 schland
DTSTART:20241115T170000Z
DTEND:20241115T190000Z
DTSTAMP:20240915T104142Z
ORGANIZER;CN=PMI Germany Chapter e.V.:MAILTO:website@pmi-gc.de
GEO:48.767909;9.16981
X-APPLE-STRUCTURED-LOCATION;VALUE=URI;X-ADDRESS=Tübinger Straße 46\, Stut
 tgart\, 70178 Baden-Württemberg\, Deutschland;X-APPLE-RADIUS=72;X-TITLE=B
 rauereigaststätte Dinkelacker:48.767909;9.16981
END:VEVENT
END:VCALENDAR