BEGIN:VCALENDAR
VERSION:2.0
PRODID:Events Booking
BEGIN:VEVENT
UID:69e8fc5b2310e
SUMMARY:Stammtisch Stuttgart - Oktober 2024
DESCRIPTION:Diskussion u.a. zu diesen Themenvorschlägen:
 - aktuelle Them
 en aus der Runde- tbd.- Wie Projektleitende entwickeln und coachen?- Entsc
 heidungsvorlagen\, richtig erstellenThemenspeicher:- Stakeholdermanagement
 : 1 von 36 Strategeme- Themenschwerpunkt der Phase Projektplanung
LOCATION:Tübinger Straße 46\, Stuttgart\, 70178 Baden-Württemberg\, Deut
 schland
DTSTART:20241018T160000Z
DTEND:20241018T180000Z
DTSTAMP:20240915T103748Z
ORGANIZER;CN=PMI Germany Chapter e.V.:MAILTO:website@pmi-gc.de
GEO:48.767909;9.16981
X-APPLE-STRUCTURED-LOCATION;VALUE=URI;X-ADDRESS=Tübinger Straße 46\, Stut
 tgart\, 70178 Baden-Württemberg\, Deutschland;X-APPLE-RADIUS=72;X-TITLE=B
 rauereigaststätte Dinkelacker:48.767909;9.16981
END:VEVENT
END:VCALENDAR