BEGIN:VCALENDAR
VERSION:2.0
PRODID:Events Booking
BEGIN:VEVENT
UID:69e80b2fbffd4
SUMMARY:Stammtisch Stuttgart - Oktober 2025
DESCRIPTION:Diskussion u.a. zu diesen Themenvorschlägen:- aktuelle Themen 
 aus der Runde- tbd.Themenspeicher:- Stakeholdermanagement: 1 von 36 Strate
 geme- Themenschwerpunkt der Phase Steuerung und Überwachung
LOCATION:Stuttgart\, 70173 Baden-Württemberg\, Deutschland
DTSTART:20251024T160000Z
DTEND:20251024T180000Z
DTSTAMP:20250909T175833Z
ORGANIZER;CN=PMI Germany Chapter e.V.:MAILTO:website@pmi-gc.de
GEO:48.778472;9.179745
X-APPLE-STRUCTURED-LOCATION;VALUE=URI;X-ADDRESS=Stuttgart\, 70173 Baden-Wü
 rttemberg\, Deutschland;X-APPLE-RADIUS=72;X-TITLE=Stuttgart (Platzhalter):
 48.778472;9.179745
END:VEVENT
END:VCALENDAR