BEGIN:VCALENDAR
VERSION:2.0
PRODID:Events Booking
BEGIN:VEVENT
UID:69e958d85a459
SUMMARY:Study Group Kick-Off 24
DESCRIPTION:Du hast deinen PMP-/CAPM-Zertifizierungsvorbereitungskurs hinte
 r dir und sitzt im stillen Kämmerlein und büffelst für deine Prüfung u
 nd hast soooo viele Fragen? Wir – das PMI Germany Chapter – haben die 
 Antworten. Frei nach unserem Anspruch\, Forum und Plattform für Projektma
 nagement-Begeisterte zur Verfügung zu stellen\, bieten wir wieder ab Mai 
 2024 im Rahmen der PMP Study Group Videokonferenzen zu verschiedenen Theme
 ngebieten des PMBOK-Guides an\, in denen deine Fragen durch einen erfahren
 en Moderator beantwortet werden.
 Unsere Study Group beginnt wieder\, und
  vorher wollen sich unsere Tutoren vorstellen.&nbsp\;
DTSTART:20240525T083000Z
DTEND:20240525T093000Z
DTSTAMP:20220519T174641Z
ORGANIZER;CN=PMI Germany Chapter e.V.:MAILTO:website@pmi-gc.de
END:VEVENT
END:VCALENDAR