BEGIN:VCALENDAR
VERSION:2.0
PRODID:Events Booking
BEGIN:VEVENT
UID:69e92e7665c9a
SUMMARY:Study Group Session: Steps 1\,2\,3 for PMP exam success (Torge Oeve
 rdiek)
DESCRIPTION:Study Group Session: Steps 1\,2\,3 for PMP exam success
DTSTART:20240716T170000Z
DTEND:20240716T180000Z
DTSTAMP:20220519T174641Z
ORGANIZER;CN=PMI Germany Chapter e.V.:MAILTO:website@pmi-gc.de
END:VEVENT
END:VCALENDAR