BEGIN:VCALENDAR
VERSION:2.0
PRODID:Events Booking
BEGIN:VEVENT
UID:69e92e777204e
SUMMARY:Study Group Session: Plan And Manage Procurement (Mujahid Abdulkare
 em)
DESCRIPTION:Study Group Session: Plan And Manage Procurement (Mujahid Abdul
 kareem)
DTSTART:20240720T150000Z
DTEND:20240720T163000Z
DTSTAMP:20220519T174641Z
ORGANIZER;CN=PMI Germany Chapter e.V.:MAILTO:website@pmi-gc.de
END:VEVENT
END:VCALENDAR