BEGIN:VCALENDAR
VERSION:2.0
PRODID:Events Booking
BEGIN:VEVENT
UID:69e87b41445c1
SUMMARY:Study Group Session: Prozesse: Qualitätsmanagement (Oliver Lehmann
 \, ALVISSION EDUCATION GmbH)
DESCRIPTION:Study Group Session: Prozesse: Qualitätsmanagement (Oliver Leh
 mann\, ALVISSION EDUCATION GmbH)
DTSTART:20250422T170000Z
DTEND:20250422T180000Z
DTSTAMP:20220519T174641Z
ORGANIZER;CN=PMI Germany Chapter e.V.:MAILTO:website@pmi-gc.de
END:VEVENT
END:VCALENDAR