BEGIN:VCALENDAR
VERSION:2.0
PRODID:Events Booking
BEGIN:VEVENT
UID:69e774a706aee
SUMMARY:Study Group Session -  Kommunikation Deep Dive (Annie Sheehan)
DESCRIPTION:Kommunikation &amp\; Konflikt – Schwierige Gespräche souver
 än meisternEine starke Kommunikation ist das Herzstück jedes erfolgreich
 en Projekts. In dieser 90-minütigen interaktiven Sitzung tauchen wir in K
 onfliktlösungstechniken ein\, die jeder Projektmanager kennen sollte – 
 und bringen sie durch Annies einzigartige Vogel-Persönlichkeiten zum Lebe
 n: die gemeine Elster\, der vermeidende Strauß\, die fleißige Ente und d
 er effektive Adler aus ihrem Buch „The Courageous Sponsor”.Entdecken S
 ie\, wie Sie verschiedene Kommunikationsstile erkennen\, Spannungen abbaue
 n und schwierige Gespräche mit Klarheit und Empathie meistern können. Wi
 r werden auch ein kurzes\, praktisches Rollenspiel einbauen\, damit Sie er
 leben können\, wie diese Strategien in der Praxis funktionieren.Bringen S
 ie Ihre Neugier mit – und vielleicht auch Ihren inneren Vogel! ?Überset
 zt mit DeepL.com (kostenlose Version)
DTSTART:20250901T100000Z
DTEND:20250901T113000Z
DTSTAMP:20250712T100903Z
ORGANIZER;CN=PMI Germany Chapter e.V.:MAILTO:website@pmi-gc.de
END:VEVENT
END:VCALENDAR