BEGIN:VCALENDAR
VERSION:2.0
PRODID:Events Booking
BEGIN:VEVENT
UID:69e77488b96dc
SUMMARY:Study Group Session: Fachbegriffe des PMI (Pierre Corell)
DESCRIPTION:Study Group Session: Fachbegriffe des PMI (Pierre Corell)
DTSTART:20250902T160000Z
DTEND:20250902T170000Z
DTSTAMP:20220519T174641Z
ORGANIZER;CN=PMI Germany Chapter e.V.:MAILTO:website@pmi-gc.de
END:VEVENT
END:VCALENDAR