BEGIN:VCALENDAR
VERSION:2.0
PRODID:Events Booking
BEGIN:VEVENT
UID:69e774a7051c8
SUMMARY:Study Group Session: Prozesse: Kostenmanagement (Hardy Steffens)
DESCRIPTION:Study Group Session: Prozesse: Kostenmanagement (Hardy Steffens
 )
DTSTART:20250923T160000Z
DTEND:20250923T170000Z
DTSTAMP:20220519T174641Z
ORGANIZER;CN=PMI Germany Chapter e.V.:MAILTO:website@pmi-gc.de
END:VEVENT
END:VCALENDAR