BEGIN:VCALENDAR
VERSION:2.0
PRODID:Events Booking
BEGIN:VEVENT
UID:69e7747ad055d
SUMMARY:Study Group Session: Stakeholder-Management (Stefanie Gentes)
DESCRIPTION:Study Group Session: Prozesse: Stakeholder-Management (Stefanie
  Gentes)
DTSTART:20251111T170000Z
DTEND:20251111T180000Z
DTSTAMP:20220519T174641Z
ORGANIZER;CN=PMI Germany Chapter e.V.:MAILTO:website@pmi-gc.de
END:VEVENT
END:VCALENDAR