BEGIN:VCALENDAR
VERSION:2.0
PRODID:Events Booking
BEGIN:VEVENT
UID:69e8227c06dfb
SUMMARY:LG Leipzig: Workshop “Wie du dein Team aktivierst und dich entlas
 test“
DESCRIPTION:Die Local Group Leipzig lädt ein zu zwei Workshops – frei ko
 mbinierbar
 Wir bieten zwei thematisch aufeinander abgestimmte\, aber una
 bhängige Workshops an. Sie können einen oder beide Workshops besuchen 
 – ganz wie es für Sie passt. Jeder Workshop ist in sich abgeschlossen u
 nd bietet wertvolle Inhalte\, auch ohne Teilnahme am anderen.
 Inhalt: 
 „Wenn alles an dir hängenbleibt. Wie du dein Team aktivierst und dich
  entlastest.“
DTSTART:20250825T160000Z
DTEND:20250825T180000Z
DTSTAMP:20250702T120654Z
ORGANIZER;CN=PMI Germany Chapter e.V.:MAILTO:website@pmi-gc.de
END:VEVENT
END:VCALENDAR