BEGIN:VCALENDAR
VERSION:2.0
PRODID:Events Booking
BEGIN:VEVENT
UID:69e90994a2c5c
SUMMARY:LG Dresden: Uncertainty Mapping - Unsicherheiten erkennen und erfol
 greich managen
DESCRIPTION:Die Local Group Dresden lädt ein zu einem Workshop zum Uncerta
 inty Mapping:
 Unsicherheiten erkennen und erfolgreich managen
 Unsicher
 ? Kein Problem!Uncertainty Mapping bringt Klarheit in das Chaos. Wir zeige
 n euch\, wie ihr Unsicherheiten in Projekten aufdeckt\, versteht und visua
 lisiert. Damit spart ihr Zeit\, reduziert Stress und stärkt euer Team.
LOCATION:Kleiststraße 10a\, 01129 Dresden
DTSTART:20240919T160000Z
DTEND:20240919T180000Z
DTSTAMP:20240823T134842Z
ORGANIZER;CN=PMI Germany Chapter e.V.:MAILTO:website@pmi-gc.de
END:VEVENT
END:VCALENDAR