BEGIN:VCALENDAR
VERSION:2.0
PRODID:Events Booking
BEGIN:VEVENT
UID:69e8cfcd98767
SUMMARY:Volunteer Event PMI Germany Chapter '24
DESCRIPTION:Wir möchten Dir danksagen für Deine großartige ehrenamtliche
  Arbeit\, die Du für das Chapter geleistet hast bzw. nach wie vor leisten
  wirst\, und wir möchten Dir Orientierung in unserer Community geben. Dah
 er laden wir Dich hiermit herzlich ein zu unserem
 4. Deutschlandweiten V
 olunteer Event am Donnerstag\, 05.12.2024\, 19 bis 21 Uhr
 Einmal im Jahr
  veranstalten wir vom PMI Germany Chapter auch einen bundesweiten virtuell
 en Volunteer Event. Und diesmal direkt am internationalen Tag des Ehrenamt
 s ist dies doch ein willkommener Anlass\, oder?
DTSTART:20241205T180000Z
DTEND:20241205T200000Z
DTSTAMP:20221020T095714Z
ORGANIZER;CN=PMI Germany Chapter e.V.:MAILTO:website@pmi-gc.de
END:VEVENT
END:VCALENDAR