BEGIN:VCALENDAR
VERSION:2.0
PRODID:Events Booking
BEGIN:VEVENT
UID:69e7f3ec85833
SUMMARY:Online-Webinar: Der digitale Zwilling im Projektmanagement
DESCRIPTION:In diesem Webinar wird vermittelt\, wie man mit einem digitalen
  Zwilling reale Projekte virtuell abbilden\, Szenarien simulieren und date
 nbasierte Entscheidungen mit Erfahrungswissen kombinieren kann.
DTSTART:20251030T173000Z
DTEND:20251030T193000Z
DTSTAMP:20250827T034657Z
ORGANIZER;CN=PMI Germany Chapter e.V.:MAILTO:website@pmi-gc.de
END:VEVENT
END:VCALENDAR