BEGIN:VCALENDAR
VERSION:2.0
PRODID:Events Booking
BEGIN:VEVENT
UID:69e7d9a704010
SUMMARY:PMI Women in Projects Network Year-End Webinar
DESCRIPTION:Diese Veranstaltung findet in Englischer Sprache statt.
 Feier
 n Sie mit uns ein Jahr voller Lernen\, Networking und inspirierender Redne
 r. Wir werden zunächst unser gemeinsames Jahr feiern\, gefolgt von Networ
 king und einem Vortrag von Dr. G K Chawla\, einem Experten für digitale T
 ransformation. Bei Projekten geht es nicht mehr nur darum\, Ergebnisse zu 
 liefern - sie sind der Motor der Unternehmensstrategie. In dieser Sitzung 
 wird untersucht\, wie Projektexperten die Ausführung mit strategischen Zi
 elen verbinden\, den Geschäftssinn stärken und den Wert in der Sprache d
 er Führungskräfte kommunizieren können\, um den langfristigen Erfolg zu
  fördern.Der Erfolg oder Misserfolg von Unternehmen beruht auf ihrer Fäh
 igkeit\, Strategien effektiv umzusetzen - und Projekte sind das Mittel fü
 r diese Umsetzung.&nbsp\;
 Bei Fragen wenden Sie sich bitte an martin.ber
 tram@pmi-gc.de
DTSTART:20251106T173000Z
DTEND:20251106T190000Z
DTSTAMP:20250123T005632Z
ORGANIZER;CN=PMI Germany Chapter e.V.:MAILTO:website@pmi-gc.de
END:VEVENT
END:VCALENDAR