BEGIN:VCALENDAR
VERSION:2.0
PRODID:Events Booking
BEGIN:VEVENT
UID:69e7c40c75486
SUMMARY:PDU Workshop: Führung mit Herz und Verstand 
DESCRIPTION:PDU Workshop
 Führung mit Herz und Verstand - Wie eine starke
  und gleichzeitig emphatische Führung gelingt
 Als Projektmanager sind S
 ie täglich mit zahlreichen Herausforderungen konfrontiert. Vor allem in d
 er Führung Ihres Teams gibt es\, neben allem Themenbezogenen und Fachlich
 en\, essentielle Fragen\, die sich immer wieder im Hintergrund stellen.
 
 Bringen Sie Ihre Führungsskills auf ein neues Level und machen Sie im kom
 menden Jahr Ihrem Team und sich selbst das Leben leichter. Sie werden Ihre
  Ziele einfacher und schneller erreichen\, Probleme und Konflikte besser l
 ösen und die Stimmung und Motivation in Ihrem Team grundlegend verbessern
  können.&nbsp\;
 &nbsp\;
DTSTART:20230317T083000Z
DTEND:20230317T163000Z
DTSTAMP:20221122T160837Z
ORGANIZER;CN=PMI Germany Chapter e.V.:MAILTO:website@pmi-gc.de
END:VEVENT
END:VCALENDAR