BEGIN:VCALENDAR
VERSION:2.0
PRODID:Events Booking
BEGIN:VEVENT
UID:69e95b9616ab1
SUMMARY:Xuviate Multiprojekt Kanban Simulation Mai 2024
DESCRIPTION:4-Stündige Xuviate Multiprojekt Kanban Simulation
 2. Mai\, 9
 :00 bis 13:00 auf Deutsch und 14:00-18:00 auf Englisch
 Deutsche Beschrei
 bung und Buchung: https://www.xuviate.com/de/multiprojekt-kanban-simulatio
 n/)English description and booking link: https://www.xuviate.com/multi-pro
 ject-kanban-simulation/
 (Frei für eine Person pro Unternehmen mit Coupo
 n Code: PMI-MPSIMU-0205)
 Inhaber von PMI Zertifikaten können 2 PDUs fü
 r Power Skills und&nbsp\;2 PDUs für Business Acumen claimen.
DTSTART:20240502T070000Z
DTEND:20240502T160000Z
DTSTAMP:20240418T171018Z
ORGANIZER;CN=PMI Germany Chapter e.V.:MAILTO:website@pmi-gc.de
END:VEVENT
END:VCALENDAR